BEGIN:VCALENDAR
VERSION:2.0
PRODID:-//Edmonton-Metcalfe County Chamber of Commerce - ECPv6.15.20//NONSGML v1.0//EN
CALSCALE:GREGORIAN
METHOD:PUBLISH
X-WR-CALNAME:Edmonton-Metcalfe County Chamber of Commerce
X-ORIGINAL-URL:https://metcalfechamber.com
X-WR-CALDESC:Events for Edmonton-Metcalfe County Chamber of Commerce
REFRESH-INTERVAL;VALUE=DURATION:PT1H
X-Robots-Tag:noindex
X-PUBLISHED-TTL:PT1H
BEGIN:VTIMEZONE
TZID:UTC
BEGIN:STANDARD
TZOFFSETFROM:+0000
TZOFFSETTO:+0000
TZNAME:UTC
DTSTART:20220101T000000
END:STANDARD
END:VTIMEZONE
BEGIN:VEVENT
DTSTART;TZID=UTC:20231127T180000
DTEND;TZID=UTC:20231127T200000
DTSTAMP:20260419T131530
CREATED:20230929T201353Z
LAST-MODIFIED:20231031T011500Z
UID:2097-1701108000-1701115200@metcalfechamber.com
SUMMARY:Chamber Christmas Banquet
DESCRIPTION:Seating is limited\, so you will want to get your tickets soon! \nLocation: Old School Gym 703 West Stockton St. Edmonton\, KY \n270-432-3222
URL:https://metcalfechamber.com/event/chamber-christmas-banquet/
ATTACH;FMTTYPE=image/jpeg:https://metcalfechamber.com/wp-content/uploads/2023/10/chamber-christmas-banquet-newsletter.jpg
END:VEVENT
END:VCALENDAR